BEGIN:VCALENDAR
VERSION:2.0
PRODID:-//Moray Walking &amp; Outdoor Festival - ECPv6.15.20//NONSGML v1.0//EN
CALSCALE:GREGORIAN
METHOD:PUBLISH
X-ORIGINAL-URL:https://www.moraywalkoutdoorfest.co.uk
X-WR-CALDESC:Events for Moray Walking &amp; Outdoor Festival
REFRESH-INTERVAL;VALUE=DURATION:PT1H
X-Robots-Tag:noindex
X-PUBLISHED-TTL:PT1H
BEGIN:VTIMEZONE
TZID:Europe/London
BEGIN:DAYLIGHT
TZOFFSETFROM:+0000
TZOFFSETTO:+0100
TZNAME:BST
DTSTART:20250330T010000
END:DAYLIGHT
BEGIN:STANDARD
TZOFFSETFROM:+0100
TZOFFSETTO:+0000
TZNAME:GMT
DTSTART:20251026T010000
END:STANDARD
BEGIN:DAYLIGHT
TZOFFSETFROM:+0000
TZOFFSETTO:+0100
TZNAME:BST
DTSTART:20260329T010000
END:DAYLIGHT
BEGIN:STANDARD
TZOFFSETFROM:+0100
TZOFFSETTO:+0000
TZNAME:GMT
DTSTART:20261025T010000
END:STANDARD
BEGIN:DAYLIGHT
TZOFFSETFROM:+0000
TZOFFSETTO:+0100
TZNAME:BST
DTSTART:20270328T010000
END:DAYLIGHT
BEGIN:STANDARD
TZOFFSETFROM:+0100
TZOFFSETTO:+0000
TZNAME:GMT
DTSTART:20271031T010000
END:STANDARD
END:VTIMEZONE
BEGIN:VEVENT
DTSTART;TZID=Europe/London:20260613T090000
DTEND;TZID=Europe/London:20260613T170000
DTSTAMP:20260419T040942
CREATED:20260318T225324Z
LAST-MODIFIED:20260401T200603Z
UID:10000242-1781341200-1781370000@www.moraywalkoutdoorfest.co.uk
SUMMARY:Glenfiddich to Glenlivet
DESCRIPTION:Join the Rangers from Dorenell Ranger Service and Glenlivet Ranger Service for a walk up the River Fiddich all the way to its source\, then over the watershed to meet the River Livet. We’ll park at the finish point in Glenlivet and be transported by coach to the start at Bridgehaugh\, south of Dufftown. The route will follow Moray core path SP29\, going past Glenfiddich Lodge and up Glenfiddich itsel\,f where we’ll have an opportunity to see Elf House cave and the McHardy stone. Once up on the watershed\, we’ll hopefully have views across to the Cairngorms before following the Suie Burn down to the River Livet and out to Glenlivet. \nAlong the route\, the Rangers will talk about the Cultural and Natural History of the area and will be on hand to point out any wildlife along the route\, which could include Red Deer and various birds of prey\, including Golden Eagles and White-tailed Eagles. \nAlthough starting off on a patchy tarmac track\, the route is mainly rough\, landrover tracks with a number of small streams and river crossings. A larger river crossing towards the end can be avoided by a bridge further upstream but walkers should come prepared for potentially wet feet. \n\nMark Johnston is Head Ranger for the 23000ha Glenlivet Estate. The Crown Estate acquired Glenlivet (now managed by Crown Estate Scotland) in 1937\, which today comprises over 30 let farms\, 1500 acres of commercial forests and a sporting tenancy including grouse moors\, salmon fishing and deer stalking. \nStephen Reeves is Head Ranger for the Dorenell Ranger Service\, set up by EDF Renewables in July 2019 as part of the Dorenell Wind Farm on the Cabrach and Glenfiddich estate. Based at the Dorenell Wind Farm Visitor Centre\, the Rangers are responsible for delivering the Access Strategy and Habitat Management Plan whilst delivering environmental education and guided walks in the Cabrach and surrounding area.
URL:https://www.moraywalkoutdoorfest.co.uk/event/glenfiddich-to-glenlivet-26/
LOCATION:Allan Reid Car Park\, Allanreid car park\, Glenlivet\, AB37 9JJ\, United Kingdom
CATEGORIES:Forest,Heritage,Hill,Moderate +,Nature,Walk
ATTACH;FMTTYPE=image/jpeg:https://www.moraywalkoutdoorfest.co.uk/wp-content/uploads/vfb/2023/03/Suie-juntion-e1680515320644.jpg
ORGANIZER;CN="Dorenell Ranger Service":MAILTO:mailto:dorenellrangerservice@edf-power.com
GEO:57.307724;-3.269656
X-APPLE-STRUCTURED-LOCATION;VALUE=URI;X-ADDRESS=Allan Reid Car Park Allanreid car park Glenlivet AB37 9JJ United Kingdom;X-APPLE-RADIUS=500;X-TITLE=Allanreid car park:geo:-3.269656,57.307724
END:VEVENT
END:VCALENDAR