BEGIN:VCALENDAR
VERSION:2.0
PRODID:-//Moray Walking &amp; Outdoor Festival - ECPv6.15.20//NONSGML v1.0//EN
CALSCALE:GREGORIAN
METHOD:PUBLISH
X-WR-CALNAME:Moray Walking &amp; Outdoor Festival
X-ORIGINAL-URL:https://www.moraywalkoutdoorfest.co.uk
X-WR-CALDESC:Events for Moray Walking &amp; Outdoor Festival
REFRESH-INTERVAL;VALUE=DURATION:PT1H
X-Robots-Tag:noindex
X-PUBLISHED-TTL:PT1H
BEGIN:VTIMEZONE
TZID:Europe/London
BEGIN:DAYLIGHT
TZOFFSETFROM:+0000
TZOFFSETTO:+0100
TZNAME:BST
DTSTART:20250330T010000
END:DAYLIGHT
BEGIN:STANDARD
TZOFFSETFROM:+0100
TZOFFSETTO:+0000
TZNAME:GMT
DTSTART:20251026T010000
END:STANDARD
BEGIN:DAYLIGHT
TZOFFSETFROM:+0000
TZOFFSETTO:+0100
TZNAME:BST
DTSTART:20260329T010000
END:DAYLIGHT
BEGIN:STANDARD
TZOFFSETFROM:+0100
TZOFFSETTO:+0000
TZNAME:GMT
DTSTART:20261025T010000
END:STANDARD
BEGIN:DAYLIGHT
TZOFFSETFROM:+0000
TZOFFSETTO:+0100
TZNAME:BST
DTSTART:20270328T010000
END:DAYLIGHT
BEGIN:STANDARD
TZOFFSETFROM:+0100
TZOFFSETTO:+0000
TZNAME:GMT
DTSTART:20271031T010000
END:STANDARD
END:VTIMEZONE
BEGIN:VEVENT
DTSTART;TZID=Europe/London:20260614T140000
DTEND;TZID=Europe/London:20260614T160000
DTSTAMP:20260419T041541
CREATED:20260319T114737Z
LAST-MODIFIED:20260319T114737Z
UID:10000247-1781445600-1781452800@www.moraywalkoutdoorfest.co.uk
SUMMARY:Forres: A Walk in the Middle Ages
DESCRIPTION:A walk with local history expert Dr John Barrett will trace the origins and development of the Royal Burgh of Forres in the present-day townscape. The exploration will show how a medieval royal burgh was planned and how Forres occupies an important place in the history of Moray and Scotland. We will look at buildings and landscapes. We will find prehistoric and Pictish remains on the site of the medieval town. And we will find a place of power in the heart of Moray (not to mention Macbeth\, witches and several ‘orrible murders).
URL:https://www.moraywalkoutdoorfest.co.uk/event/forres-a-walk-in-the-middle-ages-26/
LOCATION:Forres War Memorial\, St Catherine's Rd\, Forres\, Moray\, IV36 1LL\, United Kingdom
CATEGORIES:Easy,Heritage,Urban,Walk
ATTACH;FMTTYPE=image/jpeg:https://www.moraywalkoutdoorfest.co.uk/wp-content/uploads/2026/03/IMG_8672-e1773920845892.jpg
ORGANIZER;CN="Dr John R Barrett":MAILTO:dr.j.r.barrett@gmail.com
END:VEVENT
BEGIN:VEVENT
DTSTART;TZID=Europe/London:20260616T170000
DTEND;TZID=Europe/London:20260616T183000
DTSTAMP:20260419T041541
CREATED:20260308T155833Z
LAST-MODIFIED:20260318T213733Z
UID:10000235-1781629200-1781634600@www.moraywalkoutdoorfest.co.uk
SUMMARY:Useful Nature Foraging Walk
DESCRIPTION:Come learn about the bounty that nature has on offer\, from delicious mushrooms & berries\, and to useful timbers\, to helpful medicines. \nWe will be walking very slowly on a very short walk tasting\, sampling and collecting as we learn and explore the woods together. This time of year there should be berries\, mushrooms\, nuts and more\, all in abundance! \nRuaraidh has been foraging and exploring nature for over 30 years. His passion and love led him through degrees in zoology and wildlife biology\, taking him around the world as a wildlife biologist\, and back home to Scotland where he works for Nature 4 Health\, a local charity.
URL:https://www.moraywalkoutdoorfest.co.uk/event/useful-nature-foraging-walk-26/
LOCATION:Sanquhar Loch Car Park\, Sanquhar Road\, Forres\, Moray\, United Kingdom
CATEGORIES:Easy,Evening Event,Family Friendly,Forest,Nature,Nature
ATTACH;FMTTYPE=image/jpeg:https://www.moraywalkoutdoorfest.co.uk/wp-content/uploads/2021/09/DSC00845-copy-2-scaled-e1631015750199.jpg
ORGANIZER;CN="Ruaraidh Milne":MAILTO:ruaraidh@N4H.co.uk
GEO:57.602428;-3.609073
X-APPLE-STRUCTURED-LOCATION;VALUE=URI;X-ADDRESS=Sanquhar Loch Car Park Sanquhar Road Forres Moray United Kingdom;X-APPLE-RADIUS=500;X-TITLE=Sanquhar Road:geo:-3.609073,57.602428
END:VEVENT
BEGIN:VEVENT
DTSTART;TZID=Europe/London:20260619T140000
DTEND;TZID=Europe/London:20260619T160000
DTSTAMP:20260419T041541
CREATED:20260406T205843Z
LAST-MODIFIED:20260407T081636Z
UID:10000249-1781877600-1781884800@www.moraywalkoutdoorfest.co.uk
SUMMARY:Kinloss Abbey - Preservation in Action at the Abbey
DESCRIPTION:Come and walk around the continuing changes we’re making. \nThis year’s Abbey Walk will show the progress the charity has made during the year to stabilise the locked Abbot’s House\, as part of a ‘walk and talk stroll’ around the whole site. There is a stepped 3-foot wall over which those with disabilities can be easily helped. Tours cover almost 1000 years of history\, from the Abbey’s Foundation as a monastery in 1150 by David I to its rise in prominence under the remarkable Bishop Robert Reid just before its decline after the Scottish Reformation in 1560\, aided by Oliver Cromwell. The interesting memento mori graveyard and its Commonwealth War Commission graves are included. \nKinloss Abbey is a Cistercian abbey at Kinloss in the county of Moray\, Scotland. The abbey was founded in 1150 by King David I and was first colonised by monks from Melrose Abbey. It received its Papal Bull from Pope Alexander III in 1174. Robert Reid was its nationally famous abbot in the 16th century just before the Scottish Reformation.​
URL:https://www.moraywalkoutdoorfest.co.uk/event/kinloss-abbey-preservation-in-action-at-the-abbey-26/
LOCATION:Kinloss Abbey Trust\, Kinloss\, Forres\, Moray\, IV36 3TL\, United Kingdom
CATEGORIES:Coast,Easy,Heritage,Walk
ATTACH;FMTTYPE=image/jpeg:https://www.moraywalkoutdoorfest.co.uk/wp-content/uploads/2020/02/kinlossabbey-e1618842585408.jpg
ORGANIZER;CN="Kinloss Abbey Trust":MAILTO:timothyfinnegan@hotmail.com
GEO:57.634251;-3.566377
X-APPLE-STRUCTURED-LOCATION;VALUE=URI;X-ADDRESS=Kinloss Abbey Trust Kinloss Forres Moray IV36 3TL United Kingdom;X-APPLE-RADIUS=500;X-TITLE=Kinloss:geo:-3.566377,57.634251
END:VEVENT
END:VCALENDAR